BEGIN:VCALENDAR
VERSION:2.0
PRODID:-//PaymentWorks - ECPv6.15.11//NONSGML v1.0//EN
CALSCALE:GREGORIAN
METHOD:PUBLISH
X-WR-CALNAME:PaymentWorks
X-ORIGINAL-URL:https://www.paymentworks.com
X-WR-CALDESC:Events for PaymentWorks
REFRESH-INTERVAL;VALUE=DURATION:PT1H
X-Robots-Tag:noindex
X-PUBLISHED-TTL:PT1H
BEGIN:VTIMEZONE
TZID:America/New_York
BEGIN:DAYLIGHT
TZOFFSETFROM:-0500
TZOFFSETTO:-0400
TZNAME:EDT
DTSTART:20240310T070000
END:DAYLIGHT
BEGIN:STANDARD
TZOFFSETFROM:-0400
TZOFFSETTO:-0500
TZNAME:EST
DTSTART:20241103T060000
END:STANDARD
BEGIN:DAYLIGHT
TZOFFSETFROM:-0500
TZOFFSETTO:-0400
TZNAME:EDT
DTSTART:20250309T070000
END:DAYLIGHT
BEGIN:STANDARD
TZOFFSETFROM:-0400
TZOFFSETTO:-0500
TZNAME:EST
DTSTART:20251102T060000
END:STANDARD
BEGIN:DAYLIGHT
TZOFFSETFROM:-0500
TZOFFSETTO:-0400
TZNAME:EDT
DTSTART:20260308T070000
END:DAYLIGHT
BEGIN:STANDARD
TZOFFSETFROM:-0400
TZOFFSETTO:-0500
TZNAME:EST
DTSTART:20261101T060000
END:STANDARD
END:VTIMEZONE
BEGIN:VEVENT
DTSTART;TZID=America/New_York:20250402T140000
DTEND;TZID=America/New_York:20250402T150000
DTSTAMP:20260419T103557
CREATED:20250303T185829Z
LAST-MODIFIED:20250303T185829Z
UID:6899-1743602400-1743606000@www.paymentworks.com
SUMMARY:So You’ve Had a Fraud Incident—Now What? Navigating the Aftermath and Strengthening Your Defenses
DESCRIPTION:When your organization experiences a fraud incident\, the aftermath can be overwhelming. From financial and reputational damage to operational disruptions\, the stakes are high. But with the right response and proactive strategies\, you can recover\, rebuild trust\, and fortify your defenses against future threats. \nJoin PaymentWorks and industry experts as we break down the critical steps you need to take after a fraud incident. \nIn this live event\, you’ll learn:\n✅ How to respond effectively in the immediate aftermath of fraud\n✅ Best practices for internal and external communication\n✅ Key legal and regulatory considerations\n✅ Strategies for strengthening your vendor onboarding processes\n✅ How to leverage technology to prevent future fraud \nWhether you work in finance\, procurement\, compliance\, or risk\, this session will equip you with actionable insights to protect your organization from the costly consequences of fraud. \nDon’t wait for the next incident—get the knowledge you need to stay ahead of fraud. \nBONUS: 1 CPE Credit Available!\nSave your seat!
URL:https://www.paymentworks.com/event/so-youve-had-a-fraud-incident-now-what-navigating-the-aftermath-and-strengthening-your-defenses/
CATEGORIES:Attending,Hosted by PaymentWorks
ATTACH;FMTTYPE=image/png:https://www.paymentworks.com/wp-content/uploads/2025/03/PW-25-2.26.25-Webinar-Ring-Central-Banner-v2.png
END:VEVENT
BEGIN:VEVENT
DTSTART;VALUE=DATE:20250407
DTEND;VALUE=DATE:20250410
DTSTAMP:20260419T103557
CREATED:20250220T152641Z
LAST-MODIFIED:20250220T152700Z
UID:6848-1743984000-1744243199@www.paymentworks.com
SUMMARY:2025 Institute of Commercial Payments Conference (IOCP)
DESCRIPTION:PaymentWorks at IOCP 2025 – Speaking & Exhibiting\nWe’re excited to announce that PaymentWorks will be speaking and exhibiting at the upcoming Institute of Commercial Payments (IOCP) Annual Commercial Card and Payment Conference! Join us in New Orleans\, Louisiana\, from April 7–9\, 2025\, at the Sheraton New Orleans\, located on historic Canal Street in the heart of the vibrant French Quarter. \n  \n \nOur Session Details:\nMaximizing Value and Revenue Through Effective Vendor Onboarding \nDate: Wednesday\, April 9\, 2025\nTime: 10:30–11:15 AM\nLocation: Waterbury Ballroom (Breakout 7)\nSpeakers:\nKevin Sisler\, CTP\, Director of Treasury Services\, University of Kentucky\nAngela Sarno\, VP\, Marketing\, PaymentWorks \nYour supplier data impacts procurement\, finance\, and risk management daily—yet many treasury teams overlook vendor onboarding as a strategic opportunity. In this session\, we’ll explore how effective vendor onboarding reduces risk\, minimizes maverick spending\, and increases Virtual Card adoption to drive rebate revenue. \nKey Takeaways: \nA framework for quantifying the value of vendor onboarding\nInsights into social engineering and vendor Impersonation scams\nStrategies to leverage vendor onboarding to unlock new revenue streams\nConference Highlights: \nThe IOCP Annual Conference is a premier event for Commercial Card and Payment professionals\, offering an immersive experience with: \n\nExpert-led sessions on transformative industry perspectives\nCase studies and breakout sessions featuring real-world successes\nNetworking opportunities to cultivate meaningful connections\nAn exhibit hall showcasing thought leaders and innovative solutions\n\nDon’t miss this opportunity to connect with industry peers and gain valuable insights. Stop by our table to meet the PaymentWorks team and discover how we can help your organization transform vendor onboarding into a powerful financial asset!
URL:https://www.paymentworks.com/event/2025-institute-of-commercial-payments-conference-iocp/
LOCATION:New Orleans\, LA
CATEGORIES:Attending
ATTACH;FMTTYPE=image/png:https://www.paymentworks.com/wp-content/uploads/2025/02/updated_logo_with_card.png
END:VEVENT
BEGIN:VEVENT
DTSTART;TZID=America/New_York:20250411T130000
DTEND;TZID=America/New_York:20250411T134500
DTSTAMP:20260419T103557
CREATED:20250304T145128Z
LAST-MODIFIED:20250304T145629Z
UID:6916-1744376400-1744379100@www.paymentworks.com
SUMMARY:Digital Supplier Onboarding: PaymentWorks Demo Day
DESCRIPTION:Are you looking to streamline your vendor onboarding process and want to see the PaymentWorks platform in action? Join us for an exclusive live demo on 4/11!\n  \n \nIn this 45-minute session\, we will explain the key features and benefits of PaymentWorks and demonstrate how it can transform the chaos and unsecured nature of the typical vendor onboarding process into an orderly\, secured\, trackable process so you can sleep better at night. \nRegister now to secure your spot!\n\n \n 
URL:https://www.paymentworks.com/event/digital-supplier-onboarding-paymentworks-demo-day-2/
CATEGORIES:Attending,Hosted by PaymentWorks
ATTACH;FMTTYPE=image/jpeg:https://www.paymentworks.com/wp-content/uploads/2025/03/PW-25-4_11-PaymentWorks-Demo-Day-Ring-Central.jpg
END:VEVENT
BEGIN:VEVENT
DTSTART;VALUE=DATE:20250427
DTEND;VALUE=DATE:20250430
DTSTAMP:20260419T103557
CREATED:20250424T152346Z
LAST-MODIFIED:20250424T152346Z
UID:7277-1745712000-1745971199@www.paymentworks.com
SUMMARY:2025 TEXPO Conference
DESCRIPTION:Catch PaymentWorks at TEXPO 2025 – Booth 413!\nWe’re excited to announce that PaymentWorks will be exhibiting at TEXPO 2025\, the premier Treasury & Financial Conference in Texas! Join us in San Antonio\, TX\, from April 27–29\, 2025\, for three days of networking\, innovation\, and industry insights. \n🔶 Where to Find Us:Booth 413 — Connect with our team\, explore how we transform payee onboarding and vendor management\, and discover the latest secure\, compliant\, and automated onboarding solutions. \nWho You’ll Meet: \n\nBrian Anderson\nMegan Diakoumis\nBarbra Cheadle\n\nLet’s talk treasury transformation\, risk reduction\, and the future of digital business payments. We can’t wait to see you there! \n👉 Learn more about the event at texpoconference.org \n 
URL:https://www.paymentworks.com/event/2025-texpo-conference/
CATEGORIES:Attending,Hosted by PaymentWorks
ATTACH;FMTTYPE=image/jpeg:https://www.paymentworks.com/wp-content/uploads/2025/04/atta_texpo_logo.jpeg
END:VEVENT
END:VCALENDAR