BEGIN:VCALENDAR
VERSION:2.0
PRODID:-//PaymentWorks - ECPv6.15.11//NONSGML v1.0//EN
CALSCALE:GREGORIAN
METHOD:PUBLISH
X-WR-CALNAME:PaymentWorks
X-ORIGINAL-URL:https://www.paymentworks.com
X-WR-CALDESC:Events for PaymentWorks
REFRESH-INTERVAL;VALUE=DURATION:PT1H
X-Robots-Tag:noindex
X-PUBLISHED-TTL:PT1H
BEGIN:VTIMEZONE
TZID:America/New_York
BEGIN:DAYLIGHT
TZOFFSETFROM:-0500
TZOFFSETTO:-0400
TZNAME:EDT
DTSTART:20230312T070000
END:DAYLIGHT
BEGIN:STANDARD
TZOFFSETFROM:-0400
TZOFFSETTO:-0500
TZNAME:EST
DTSTART:20231105T060000
END:STANDARD
BEGIN:DAYLIGHT
TZOFFSETFROM:-0500
TZOFFSETTO:-0400
TZNAME:EDT
DTSTART:20240310T070000
END:DAYLIGHT
BEGIN:STANDARD
TZOFFSETFROM:-0400
TZOFFSETTO:-0500
TZNAME:EST
DTSTART:20241103T060000
END:STANDARD
BEGIN:DAYLIGHT
TZOFFSETFROM:-0500
TZOFFSETTO:-0400
TZNAME:EDT
DTSTART:20250309T070000
END:DAYLIGHT
BEGIN:STANDARD
TZOFFSETFROM:-0400
TZOFFSETTO:-0500
TZNAME:EST
DTSTART:20251102T060000
END:STANDARD
END:VTIMEZONE
BEGIN:VEVENT
DTSTART;TZID=America/New_York:20240502T140000
DTEND;TZID=America/New_York:20240502T150000
DTSTAMP:20260419T091330
CREATED:20240423T140452Z
LAST-MODIFIED:20240423T140452Z
UID:5446-1714658400-1714662000@www.paymentworks.com
SUMMARY:Mitigating Risk While Increasing ACH Adoption - A Conversation with the City of Garland\, Texas
DESCRIPTION:When the City of Garland purchased PaymentWorks\, their vendor base was 50% check and 50% ACH. \nWith PaymentWorks\, 92% of their vendors have opted into ACH\, and their spend is at an astounding 99.6% ACH. \nJoin us for a conversation with our 2023 Vendor Management Appreciation Day Dollars and Sense runner-up\, the City of Garland\, to hear how they accomplished this AND more!
URL:https://www.paymentworks.com/event/mitigating-risk-while-increasing-ach-adoption-a-conversation-with-the-city-of-garland-texas/
ATTACH;FMTTYPE=image/jpeg:https://www.paymentworks.com/wp-content/uploads/2024/04/City-of-Garland-Webinar-Graphic-V2.jpg
END:VEVENT
END:VCALENDAR