BEGIN:VCALENDAR
VERSION:2.0
PRODID:-//PaymentWorks - ECPv6.15.11//NONSGML v1.0//EN
CALSCALE:GREGORIAN
METHOD:PUBLISH
X-WR-CALNAME:PaymentWorks
X-ORIGINAL-URL:https://www.paymentworks.com
X-WR-CALDESC:Events for PaymentWorks
REFRESH-INTERVAL;VALUE=DURATION:PT1H
X-Robots-Tag:noindex
X-PUBLISHED-TTL:PT1H
BEGIN:VTIMEZONE
TZID:America/New_York
BEGIN:DAYLIGHT
TZOFFSETFROM:-0500
TZOFFSETTO:-0400
TZNAME:EDT
DTSTART:20220313T070000
END:DAYLIGHT
BEGIN:STANDARD
TZOFFSETFROM:-0400
TZOFFSETTO:-0500
TZNAME:EST
DTSTART:20221106T060000
END:STANDARD
BEGIN:DAYLIGHT
TZOFFSETFROM:-0500
TZOFFSETTO:-0400
TZNAME:EDT
DTSTART:20230312T070000
END:DAYLIGHT
BEGIN:STANDARD
TZOFFSETFROM:-0400
TZOFFSETTO:-0500
TZNAME:EST
DTSTART:20231105T060000
END:STANDARD
BEGIN:DAYLIGHT
TZOFFSETFROM:-0500
TZOFFSETTO:-0400
TZNAME:EDT
DTSTART:20240310T070000
END:DAYLIGHT
BEGIN:STANDARD
TZOFFSETFROM:-0400
TZOFFSETTO:-0500
TZNAME:EST
DTSTART:20241103T060000
END:STANDARD
END:VTIMEZONE
BEGIN:VTIMEZONE
TZID:America/Halifax
BEGIN:DAYLIGHT
TZOFFSETFROM:-0400
TZOFFSETTO:-0300
TZNAME:ADT
DTSTART:20220313T060000
END:DAYLIGHT
BEGIN:STANDARD
TZOFFSETFROM:-0300
TZOFFSETTO:-0400
TZNAME:AST
DTSTART:20221106T050000
END:STANDARD
BEGIN:DAYLIGHT
TZOFFSETFROM:-0400
TZOFFSETTO:-0300
TZNAME:ADT
DTSTART:20230312T060000
END:DAYLIGHT
BEGIN:STANDARD
TZOFFSETFROM:-0300
TZOFFSETTO:-0400
TZNAME:AST
DTSTART:20231105T050000
END:STANDARD
BEGIN:DAYLIGHT
TZOFFSETFROM:-0400
TZOFFSETTO:-0300
TZNAME:ADT
DTSTART:20240310T060000
END:DAYLIGHT
BEGIN:STANDARD
TZOFFSETFROM:-0300
TZOFFSETTO:-0400
TZNAME:AST
DTSTART:20241103T050000
END:STANDARD
END:VTIMEZONE
BEGIN:VEVENT
DTSTART;TZID=America/New_York:20231206T140000
DTEND;TZID=America/New_York:20231206T144500
DTSTAMP:20260419T161031
CREATED:20231025T151005Z
LAST-MODIFIED:20231106T161126Z
UID:4776-1701871200-1701873900@www.paymentworks.com
SUMMARY:Live Event: Forging an Elite Vendor Team: A Conversation About Investing in Vendor Management
DESCRIPTION:The data within your vendor master file is relied upon by your entire organization every day. Procurement\, risk\, finance\, business owners… decisions are made\, deals are struck\, and risk is assessed—or not- based on what has been input into your ERP.\nWith so much at stake\, why do so many organizations consider vendor onboarding and management as a tactical\, administrative function and not the strategic gateway to better business that it actually is? \nWith footage from her keynote at The Strategic Importance of Your Vendor Master (April 12\, 2023)\, Debra Richardson\, MBA\, APM\, APPM\, CPRS and Angela Sarno from PaymentWorks will discuss why your organization likely isn’t valuing this position relative to its responsibilities\, and how lax onboarding procedures and policies can damage an entire organization. \nWith a walkthrough of the risks inherent in manual processes and how to tackle overhauling your processes to avoid fraud\, fines\, and lousy vendor data\, attendees will leave with a blueprint for how and where investing in automation is critical to your success.
URL:https://www.paymentworks.com/event/live-event-forging-an-elite-vendor-team-a-conversation-about-investing-in-vendor-management/
CATEGORIES:Hosted by PaymentWorks
ATTACH;FMTTYPE=image/jpeg:https://www.paymentworks.com/wp-content/uploads/2023/10/Dec-6th-Virtual-Event-Graphic-v1.jpg
END:VEVENT
BEGIN:VEVENT
DTSTART;TZID=America/Halifax:20231212T140000
DTEND;TZID=America/Halifax:20231212T151500
DTSTAMP:20260419T161031
CREATED:20230724T164050Z
LAST-MODIFIED:20231109T163451Z
UID:4194-1702389600-1702394100@www.paymentworks.com
SUMMARY:Live Celebration: Vendor Management Appreciation Day
DESCRIPTION:Join us for our live event on December 12th\, 2:00 PM – 3:15 PM EST\, where we will celebrate vendor management’s unsung heroes and up-level your strategy! \n  \n \nSave My Seat!
URL:https://www.paymentworks.com/event/vendor-management-appreciation-day/
ATTACH;FMTTYPE=image/png:https://www.paymentworks.com/wp-content/uploads/2023/07/VMAD-day-1.png
END:VEVENT
BEGIN:VEVENT
DTSTART;TZID=America/New_York:20231214T140000
DTEND;TZID=America/New_York:20231214T150000
DTSTAMP:20260419T161031
CREATED:20231108T173159Z
LAST-MODIFIED:20231109T161049Z
UID:4860-1702562400-1702566000@www.paymentworks.com
SUMMARY:Live Event: Investing in Vendor Management- the Impact and Outcomes at Ivy Tech Community College
DESCRIPTION:As part of our Vendor Management Appreciation Day celebration\, we are excited for another live event on Thursday\, December 14th\, at 2:00 EST with Ivy Tech Community College. \n \nAfter a close call with a vendor impersonation fraud scam\, the finance team at Ivy Tech Community College looked hard at their vendor onboarding and management process\, uncovering myriad opportunities to better defend against fraudsters and improve the experience overall. \nSave Your Seat!
URL:https://www.paymentworks.com/event/live-event-investing-in-vendor-management-the-impact-and-outcomes-at-ivy-tech-community-college/
ATTACH;FMTTYPE=image/jpeg:https://www.paymentworks.com/wp-content/uploads/2023/11/PW-23-Live-Event-graphic-change-online-event-platform.jpg
END:VEVENT
END:VCALENDAR