BEGIN:VCALENDAR
VERSION:2.0
PRODID:-//PaymentWorks - ECPv6.15.11//NONSGML v1.0//EN
CALSCALE:GREGORIAN
METHOD:PUBLISH
X-ORIGINAL-URL:https://www.paymentworks.com
X-WR-CALDESC:Events for PaymentWorks
REFRESH-INTERVAL;VALUE=DURATION:PT1H
X-Robots-Tag:noindex
X-PUBLISHED-TTL:PT1H
BEGIN:VTIMEZONE
TZID:America/Halifax
BEGIN:DAYLIGHT
TZOFFSETFROM:-0400
TZOFFSETTO:-0300
TZNAME:ADT
DTSTART:20220313T060000
END:DAYLIGHT
BEGIN:STANDARD
TZOFFSETFROM:-0300
TZOFFSETTO:-0400
TZNAME:AST
DTSTART:20221106T050000
END:STANDARD
BEGIN:DAYLIGHT
TZOFFSETFROM:-0400
TZOFFSETTO:-0300
TZNAME:ADT
DTSTART:20230312T060000
END:DAYLIGHT
BEGIN:STANDARD
TZOFFSETFROM:-0300
TZOFFSETTO:-0400
TZNAME:AST
DTSTART:20231105T050000
END:STANDARD
BEGIN:DAYLIGHT
TZOFFSETFROM:-0400
TZOFFSETTO:-0300
TZNAME:ADT
DTSTART:20240310T060000
END:DAYLIGHT
BEGIN:STANDARD
TZOFFSETFROM:-0300
TZOFFSETTO:-0400
TZNAME:AST
DTSTART:20241103T050000
END:STANDARD
END:VTIMEZONE
BEGIN:VTIMEZONE
TZID:America/New_York
BEGIN:DAYLIGHT
TZOFFSETFROM:-0500
TZOFFSETTO:-0400
TZNAME:EDT
DTSTART:20220313T070000
END:DAYLIGHT
BEGIN:STANDARD
TZOFFSETFROM:-0400
TZOFFSETTO:-0500
TZNAME:EST
DTSTART:20221106T060000
END:STANDARD
BEGIN:DAYLIGHT
TZOFFSETFROM:-0500
TZOFFSETTO:-0400
TZNAME:EDT
DTSTART:20230312T070000
END:DAYLIGHT
BEGIN:STANDARD
TZOFFSETFROM:-0400
TZOFFSETTO:-0500
TZNAME:EST
DTSTART:20231105T060000
END:STANDARD
BEGIN:DAYLIGHT
TZOFFSETFROM:-0500
TZOFFSETTO:-0400
TZNAME:EDT
DTSTART:20240310T070000
END:DAYLIGHT
BEGIN:STANDARD
TZOFFSETFROM:-0400
TZOFFSETTO:-0500
TZNAME:EST
DTSTART:20241103T060000
END:STANDARD
END:VTIMEZONE
BEGIN:VEVENT
DTSTART;VALUE=DATE:20231001
DTEND;VALUE=DATE:20231004
DTSTAMP:20260419T184830
CREATED:20230821T165310Z
LAST-MODIFIED:20230821T190936Z
UID:4433-1696118400-1696377599@www.paymentworks.com
SUMMARY:CACUBO Annual Conference 2023
DESCRIPTION:PaymentWorks is excited to exhibit again at this year’s CACUBO Annual Conference in Omaha\, Nebraska. Stop by booth 212 and hear tips on how to make your vendor onboarding process more efficient\, secure\, and profitable.
URL:https://www.paymentworks.com/event/cacubo-annual-conference-2023/
LOCATION:Omaha\, Nebraska
ATTACH;FMTTYPE=image/jpeg:https://www.paymentworks.com/wp-content/uploads/2023/08/cacubo-conference.jpg
END:VEVENT
BEGIN:VEVENT
DTSTART;VALUE=DATE:20231003
DTEND;VALUE=DATE:20231005
DTSTAMP:20260419T184830
CREATED:20230822T175812Z
LAST-MODIFIED:20230822T175812Z
UID:4469-1696291200-1696463999@www.paymentworks.com
SUMMARY:Millennium Alliance: Digital Supply Chain Transformation Assembly
DESCRIPTION:PaymentWorks is thrilled to be attending the Digital Supply Chain Transformation Assembly taking place at the Omni Barton Creek Hotel in Austin on October 3rd-4th.
URL:https://www.paymentworks.com/event/millennium-alliance-digital-supply-chain-transformation-assembly/
LOCATION:Omni Barton Creek\, Austin Texas\, 8212 Barton Club Road\, Austin\, TX\, 78735
ATTACH;FMTTYPE=image/png:https://www.paymentworks.com/wp-content/uploads/2023/08/SC1.png
END:VEVENT
BEGIN:VEVENT
DTSTART;TZID=America/New_York:20231018T140000
DTEND;TZID=America/New_York:20231018T150000
DTSTAMP:20260419T184830
CREATED:20230613T152238Z
LAST-MODIFIED:20231012T194229Z
UID:3371-1697637600-1697641200@www.paymentworks.com
SUMMARY:PaymentWorks & J.P. Morgan: Vendor Onboarding is the Key to Driving Organizational Value
DESCRIPTION:Join us for an hour-long session with our partner\, J.P. Morgan. \nWebinar Agenda:\n\nJ.P. Morgan Introduction\nJ.P. Morgan and PaymentWorks Partnership\nPaymentWorks Overview\nPaymentWorks Solution Demo\nPartnership Case Studies & Next Steps\n\n\n\nSpeakers\n\nHayley Hynes\nVP\, Strategic Partnerships\, PaymentWorks \nPaymentWorks VP of Partnerships where she is responsible for building out PaymentWorks technical and go-to-market strategies with banks\, insurance companies\, global system integrators\, and ISVs. As a cloud security subject matter expert for SaaS\, PaaS\, and IaaS \, Hayley brings to PaymentWorks key expertise and experience with how cyber security crosses over into the fraud landscape. She has held strategic partnership roles in several successful startups including Cloudlock\, Backupify\, and ThreatStack as well as large organizations such as Cisco. She’s worked side-by-side partnering and developing joint business initiatives and technologies with cyber security experts at Google\, Amazon\, Microsoft\, and other Fortune 50 companies. \n Jill Moore\nExecutive Director\, JPMorgan Chase \nJill Moore has been with JPMorgan since 2005. She has worked in Commercial Card in training and consulting\, and in sales as a product specialist. Jill has worked closely with her treasury and banking colleagues while at JPMorgan along with other internal and external partners in the always evolving payables space. She has supported numerous clients in both Middle Market and Corporate Client Banking\, and has taken advantage of the mobility JPM offers covering different locations throughout the US including New York\, Illinois\, California and Ohio. Jill is a graduate of the University of Illinois at Urbana-Champaign. She is married with a son and a daughter\, and resides in Cincinnati\, Ohio. \n 
URL:https://www.paymentworks.com/event/vendor-onboarding-is-the-key-to-driving-organizational-value/
CATEGORIES:Hosted by PaymentWorks
ATTACH;FMTTYPE=image/jpeg:https://www.paymentworks.com/wp-content/uploads/2023/06/PW_and_JPMorgan_feature-1.jpg
END:VEVENT
BEGIN:VEVENT
DTSTART;VALUE=DATE:20231022
DTEND;VALUE=DATE:20231026
DTSTAMP:20260419T184830
CREATED:20230601T163540Z
LAST-MODIFIED:20230601T163540Z
UID:3175-1697932800-1698278399@www.paymentworks.com
SUMMARY:AFP 2023
DESCRIPTION:AFP 2023 brings together thousands of corporate treasury and finance professionals from all over the world. Join us in October.
URL:https://www.paymentworks.com/event/afp-2023/
LOCATION:San Diego Convention Center\, 111 W. Harbor Drive\, San Diego\, CA\, 92101\, United States
CATEGORIES:Attending
ATTACH;FMTTYPE=image/jpeg:https://www.paymentworks.com/wp-content/uploads/2023/06/AFP-featured-image.jpg
END:VEVENT
BEGIN:VEVENT
DTSTART;VALUE=DATE:20231024
DTEND;VALUE=DATE:20231026
DTSTAMP:20260419T184830
CREATED:20231018T170938Z
LAST-MODIFIED:20231018T171117Z
UID:4760-1698105600-1698278399@www.paymentworks.com
SUMMARY:2023 NAEP District II/MidAtlantic Conference
DESCRIPTION:PaymentWorks is excited to exhibit at this year’s NAEP District II Conference in Harrisburg\, PA! \nMake sure to stop by and say hello! \n 
URL:https://www.paymentworks.com/event/2023-naep-district-ii-midatlantic-conference/
ATTACH;FMTTYPE=image/png:https://www.paymentworks.com/wp-content/uploads/2023/10/77c887fb72e720d5a8e9dee8274061fe.png
END:VEVENT
END:VCALENDAR