BEGIN:VCALENDAR
VERSION:2.0
PRODID:-//PaymentWorks - ECPv6.15.11//NONSGML v1.0//EN
CALSCALE:GREGORIAN
METHOD:PUBLISH
X-ORIGINAL-URL:https://www.paymentworks.com
X-WR-CALDESC:Events for PaymentWorks
REFRESH-INTERVAL;VALUE=DURATION:PT1H
X-Robots-Tag:noindex
X-PUBLISHED-TTL:PT1H
BEGIN:VTIMEZONE
TZID:America/New_York
BEGIN:DAYLIGHT
TZOFFSETFROM:-0500
TZOFFSETTO:-0400
TZNAME:EDT
DTSTART:20240310T070000
END:DAYLIGHT
BEGIN:STANDARD
TZOFFSETFROM:-0400
TZOFFSETTO:-0500
TZNAME:EST
DTSTART:20241103T060000
END:STANDARD
BEGIN:DAYLIGHT
TZOFFSETFROM:-0500
TZOFFSETTO:-0400
TZNAME:EDT
DTSTART:20250309T070000
END:DAYLIGHT
BEGIN:STANDARD
TZOFFSETFROM:-0400
TZOFFSETTO:-0500
TZNAME:EST
DTSTART:20251102T060000
END:STANDARD
BEGIN:DAYLIGHT
TZOFFSETFROM:-0500
TZOFFSETTO:-0400
TZNAME:EDT
DTSTART:20260308T070000
END:DAYLIGHT
BEGIN:STANDARD
TZOFFSETFROM:-0400
TZOFFSETTO:-0500
TZNAME:EST
DTSTART:20261101T060000
END:STANDARD
BEGIN:DAYLIGHT
TZOFFSETFROM:-0500
TZOFFSETTO:-0400
TZNAME:EDT
DTSTART:20270314T070000
END:DAYLIGHT
BEGIN:STANDARD
TZOFFSETFROM:-0400
TZOFFSETTO:-0500
TZNAME:EST
DTSTART:20271107T060000
END:STANDARD
END:VTIMEZONE
BEGIN:VEVENT
DTSTART;TZID=America/New_York:20250411T130000
DTEND;TZID=America/New_York:20250411T134500
DTSTAMP:20260419T173627
CREATED:20250304T145128Z
LAST-MODIFIED:20250304T145629Z
UID:6916-1744376400-1744379100@www.paymentworks.com
SUMMARY:Digital Supplier Onboarding: PaymentWorks Demo Day
DESCRIPTION:Are you looking to streamline your vendor onboarding process and want to see the PaymentWorks platform in action? Join us for an exclusive live demo on 4/11!\n  \n \nIn this 45-minute session\, we will explain the key features and benefits of PaymentWorks and demonstrate how it can transform the chaos and unsecured nature of the typical vendor onboarding process into an orderly\, secured\, trackable process so you can sleep better at night. \nRegister now to secure your spot!\n\n \n 
URL:https://www.paymentworks.com/event/digital-supplier-onboarding-paymentworks-demo-day-2/
CATEGORIES:Attending,Hosted by PaymentWorks
ATTACH;FMTTYPE=image/jpeg:https://www.paymentworks.com/wp-content/uploads/2025/03/PW-25-4_11-PaymentWorks-Demo-Day-Ring-Central.jpg
END:VEVENT
BEGIN:VEVENT
DTSTART;VALUE=DATE:20250427
DTEND;VALUE=DATE:20250430
DTSTAMP:20260419T173627
CREATED:20250424T152346Z
LAST-MODIFIED:20250424T152346Z
UID:7277-1745712000-1745971199@www.paymentworks.com
SUMMARY:2025 TEXPO Conference
DESCRIPTION:Catch PaymentWorks at TEXPO 2025 – Booth 413!\nWe’re excited to announce that PaymentWorks will be exhibiting at TEXPO 2025\, the premier Treasury & Financial Conference in Texas! Join us in San Antonio\, TX\, from April 27–29\, 2025\, for three days of networking\, innovation\, and industry insights. \n🔶 Where to Find Us:Booth 413 — Connect with our team\, explore how we transform payee onboarding and vendor management\, and discover the latest secure\, compliant\, and automated onboarding solutions. \nWho You’ll Meet: \n\nBrian Anderson\nMegan Diakoumis\nBarbra Cheadle\n\nLet’s talk treasury transformation\, risk reduction\, and the future of digital business payments. We can’t wait to see you there! \n👉 Learn more about the event at texpoconference.org \n 
URL:https://www.paymentworks.com/event/2025-texpo-conference/
CATEGORIES:Attending,Hosted by PaymentWorks
ATTACH;FMTTYPE=image/jpeg:https://www.paymentworks.com/wp-content/uploads/2025/04/atta_texpo_logo.jpeg
END:VEVENT
BEGIN:VEVENT
DTSTART;VALUE=DATE:20250512
DTEND;VALUE=DATE:20250515
DTSTAMP:20260419T173627
CREATED:20250424T155341Z
LAST-MODIFIED:20250424T155341Z
UID:7287-1747008000-1747267199@www.paymentworks.com
SUMMARY:IOFM Spring Conference
DESCRIPTION:Meet PaymentWorks at the IOFM Spring Conference 2025 — Booth 103\nPaymentWorks is heading to the IOFM Spring Conference & Expo! Join us May 12-14\, 2025\, at Disney’s Yacht & Beach Club Resorts in Orlando\, FL\, for one of the country’s largest gatherings of financial operations professionals. \nFind Us at Booth 103\nVisit our team to see how PaymentWorks is streamlining supplier onboarding\, minimizing risk\, and bringing automation and compliance to the forefront of AP operations. Whether you’re navigating fraud prevention\, tax compliance\, or vendor management\, we’re ready to help you take your processes to the next level. \nAttending from PaymentWorks: \n\nMegan Diakoumis\nGaberie Babauta\n\nLet’s talk about how you can build a smarter\, safer payee onboarding process. We’re looking forward to connecting with you! \n👉 Full conference details at events.iofm.com/conference-spring \n 
URL:https://www.paymentworks.com/event/iofm-spring-conference/
ATTACH;FMTTYPE=image/png:https://www.paymentworks.com/wp-content/uploads/2025/04/unnamed.png
END:VEVENT
BEGIN:VEVENT
DTSTART;TZID=America/New_York:20250522T150000
DTEND;TZID=America/New_York:20250522T154500
DTSTAMP:20260419T173627
CREATED:20250424T143918Z
LAST-MODIFIED:20250424T144747Z
UID:7272-1747926000-1747928700@www.paymentworks.com
SUMMARY:Fraud Prevention & Payment Optimization: A Fireside Chat with Nuvance Health
DESCRIPTION:Join us for an engaging fireside chat as we dive into how Nuvance Health transformed its vendor management process to prevent fraud and optimize payment strategies proactively.\nScott Skrzypczak\, AVP of Operations and Procure-to-Pay at Nuvance Health\, will share real-world insights from their journey: \n\nHow PaymentWorks enabled real-time vendor verification and ACH indemnification\, helping Nuvance meet critical compliance standards.\nThe transition from manual\, risk-prone vendor vetting to an automated\, secure system.\nBuilding a Vendor Integrity Team that safeguards against fraud and drives payment optimization\, including major growth in commercial card and accelerated ACH programs.\nHow Nuvance caught three legitimate fraud attempts and saved $80\,000 in the first year of implementation.\nThe growing importance of cybersecurity and vendor integrity in the healthcare sector\, and lessons applicable across industries.\n\nModerated by Brian Anderson from PaymentWorks\, this session will also explore strategies for turning traditionally cost-heavy departments into ROI-positive functions\, all while strengthening organizational security. \nIf you want to modernize your vendor onboarding process\, enhance fraud prevention\, and maximize financial efficiency\, don’t miss this conversation!\n \n  \n 
URL:https://www.paymentworks.com/event/fraud-prevention-payment-optimization-a-fireside-chat-with-nuvance-health/
CATEGORIES:Attending,Hosted by PaymentWorks
ATTACH;FMTTYPE=image/png:https://www.paymentworks.com/wp-content/uploads/2025/04/f764d09a-eb70-44c7-ba92-4a3809175ceb.png
END:VEVENT
BEGIN:VEVENT
DTSTART;VALUE=DATE:20250629
DTEND;VALUE=DATE:20250703
DTSTAMP:20260419T173627
CREATED:20250613T174346Z
LAST-MODIFIED:20250613T181909Z
UID:8053-1751155200-1751500799@www.paymentworks.com
SUMMARY:GFOA’s 119th Annual Conference
DESCRIPTION:PaymentWorks is thrilled to be exhibiting at the 2025 GFOA Annual Conference in Washington\, DC\, from June 29 – July 2!\n📍 Visit us at Booth #208 \nJoin thousands of public finance professionals for an unforgettable experience filled with learning\, networking\, and innovation. We’re ready to showcase how PaymentWorks helps public sector organizations modernize vendor onboarding and mitigate payment fraud risk. \n \n🔗 Learn more about the conference: https://www.gfoa.org/conference \nLet’s connect – we can’t wait to see you there!
URL:https://www.paymentworks.com/event/gfoas-119th-annual-conference/
CATEGORIES:Attending
ATTACH;FMTTYPE=image/webp:https://www.paymentworks.com/wp-content/uploads/2025/06/Nationals-2025.webp
END:VEVENT
BEGIN:VEVENT
DTSTART;TZID=America/New_York:20250701T113000
DTEND;TZID=America/New_York:20250701T163000
DTSTAMP:20260419T173627
CREATED:20250613T191423Z
LAST-MODIFIED:20250616T175258Z
UID:8067-1751369400-1751387400@www.paymentworks.com
SUMMARY:Lone Star Conference
DESCRIPTION:🎸 PaymentWorks is Exhibiting at the Lone Star Conference Vendor Expo!\nWe’re excited to be part of this year’s Lone Star Annual Conference—right in the heart of Austin\, TX\, the Live Music Capital of the World! Join PaymentWorks at the Vendor Expo to learn how we’re helping public sector organizations simplify vendor onboarding\, prevent fraud before it happens\, and stay audit-ready. \n🗓️ Tuesday\, July 1\, 2025⏰ 11:30 AM – 4:30 PM📍 Holiday Inn Austin Midtown6000 Middle Fiskville Road\, Austin\, TX 78752 \nWith a sponsorship experience tuned to Austin’s legendary music scene\, this year’s event promises to be a chart-topping hit. Whether you’re a Headliner or a Roadie\, every attendee plays a part—and we can’t wait to connect with you. \n🎶 Stop by the PaymentWorks table and let’s make vendor management sing!
URL:https://www.paymentworks.com/event/vendor-expo-for-lone-star-conference/
CATEGORIES:Attending
ATTACH;FMTTYPE=image/webp:https://www.paymentworks.com/wp-content/uploads/2025/06/NIGP_Logo_Hor_RGB.webp
END:VEVENT
BEGIN:VEVENT
DTSTART;TZID=America/New_York:20250716T140000
DTEND;TZID=America/New_York:20250716T150000
DTSTAMP:20260419T173627
CREATED:20250603T150443Z
LAST-MODIFIED:20250612T215724Z
UID:7906-1752674400-1752678000@www.paymentworks.com
SUMMARY:Live Event:Nacha 2026 ACH Rule Changes - Are you Ready?
DESCRIPTION:Nacha\, the governing body of the ACH Network\, recently imposed sweeping rule changes for ACH “push payments” to reduce fraud and improve fund recovery when fraud occurs due to business email compromise and vendor impersonation scams.\nAll companies and public sector organizations are subject to these rule changes and need to comply by June 2026.\nJoin PaymentWorks and Nacha for a conversation about the implications of these rule changes on supplier onboarding\, change management\, and ACH payments.\n  \nAttendees will learn about: \n\nNacha’s role in governing ACH payments\nThe implication and expected outcome of implementing these changes\nActions each company/organization will need to take to be compliant with the new rules
URL:https://www.paymentworks.com/event/live-eventnacha-2026-ach-rule-changes-are-you-ready/
CATEGORIES:Attending,Hosted by PaymentWorks
ATTACH;FMTTYPE=image/jpeg:https://www.paymentworks.com/wp-content/uploads/2025/06/PW-25-Nacha-webinar-graphic-ringcentral-banner.jpg
END:VEVENT
BEGIN:VEVENT
DTSTART;TZID=America/New_York:20250723T130000
DTEND;TZID=America/New_York:20250723T134500
DTSTAMP:20260419T173627
CREATED:20250613T195947Z
LAST-MODIFIED:20250613T200158Z
UID:8078-1753275600-1753278300@www.paymentworks.com
SUMMARY:PaymentWorks Demo Day
DESCRIPTION:PaymentWorks Demo Day\n📅 Wednesday\, July 23 | 🕐 1:00 PM EST | ⏱️ 45 Minutes \nReady to take the pain out of vendor onboarding? \n \nJoin us for a live\, 45-minute demo of the PaymentWorks platform and learn how we help organizations eliminate the risk\, manual effort\, and compliance headaches associated with onboarding vendors. \nWe’ll walk you through key features and show how PaymentWorks transforms a chaotic\, unsecured process into one that’s automated\, secure\, trackable—and audit-ready. \nWhether you’re in finance\, procurement\, or compliance\, this session will show you how PaymentWorks helps you gain control and peace of mind. \n👉 Save your seat and see what vendor onboarding should look like.
URL:https://www.paymentworks.com/event/paymentworks-demo-day/
ATTACH;FMTTYPE=image/jpeg:https://www.paymentworks.com/wp-content/uploads/2025/06/PW-25-7_23-PaymentWorks-Demo-Day-ringcentral-v2.jpg
END:VEVENT
BEGIN:VEVENT
DTSTART;VALUE=DATE:20250727
DTEND;VALUE=DATE:20250731
DTSTAMP:20260419T173627
CREATED:20250613T180932Z
LAST-MODIFIED:20250722T140624Z
UID:8058-1753574400-1753919999@www.paymentworks.com
SUMMARY:NIGP Forum 2025
DESCRIPTION:🌟 Join PaymentWorks at NIGP Forum 2025 in Denver! 🌟\nWe’re excited to announce that PaymentWorks will be exhibiting at the NIGP Forum 2025\, the premier annual event for public procurement professionals! \n📅 Dates: July 27–30\, 2025📍 Location: Colorado Convention Center \n👉 Stop by PaymentWorks at Booth #402 to explore how our digital vendor onboarding solution empowers public agencies to reduce risk\, simplify compliance\, and streamline every step of the vendor management process.
URL:https://www.paymentworks.com/event/nigp-forum-2025/
CATEGORIES:Attending
ATTACH;FMTTYPE=image/jpeg:https://www.paymentworks.com/wp-content/uploads/2025/06/NIGP_2025_Forum_Colorado_Banner_Ad_2046_x_350_611420099.jpg
END:VEVENT
BEGIN:VEVENT
DTSTART;TZID=America/New_York:20250820T140000
DTEND;TZID=America/New_York:20250820T143000
DTSTAMP:20260419T173627
CREATED:20250731T172348Z
LAST-MODIFIED:20250804T133327Z
UID:8236-1755698400-1755700200@www.paymentworks.com
SUMMARY:Procurement Leaders: Your Role in ACH Fraud Prevention  What Nacha’s 2026 Rule Means for You
DESCRIPTION:  \nThe 2026 Nacha Rule change means vendor onboarding is no longer just a task to check off your to-do list; it’s now the key to your fraud mitigation and Nacha compliance process. As Originators of ACH transactions\, organizations must implement risk-based fraud detection procedures\, and procurement and finance\, working together\, are the front line.\nThis 30-minute live event will decode what the new Rule means for procurement teams\, why supplier payments can no longer be “owned” solely by AP\, and how procurement must collaborate with finance to establish verifiable\, risk-based vendor processes. You’ll also learn how procurement-led technology and process changes can support pre-transaction fraud detection\, safeguard payments\, and drive policy alignment. \nWhy Attend: \n\nUnderstand the Rule and its implications for your existing procurement processes and workflows.\nGet aligned with finance before the deadline—discover how to collaborate across functions to build compliant\, auditable procedures that satisfy the Nacha Rule.\nProtect supplier trust and institutional reputation by equipping your team to prevent fraud-related disruptions that damage supplier relationships and public confidence.\n\n 
URL:https://www.paymentworks.com/event/procurement-leaders-your-role-in-ach-fraud-prevention-what-nachas-2026-rule-means-for-you/
CATEGORIES:Hosted by PaymentWorks
ATTACH;FMTTYPE=image/png:https://www.paymentworks.com/wp-content/uploads/2025/07/PW-25-8_20-Event-Ring-Central-Graphic-v2.png
END:VEVENT
BEGIN:VEVENT
DTSTART;TZID=America/New_York:20250917T140000
DTEND;TZID=America/New_York:20250917T150000
DTSTAMP:20260419T173627
CREATED:20250820T162917Z
LAST-MODIFIED:20250820T164810Z
UID:8290-1758117600-1758121200@www.paymentworks.com
SUMMARY:Nacha’s 2026 Rule Changes: What You Need to Know and Do Now
DESCRIPTION:  \n \nOur first session with Nacha drew overwhelming interest—and revealed just how many organizations urgently need guidance on the June 2026 Nacha Rule changes for ACH push payments. \nIn this free\, 60-minute CPE-accredited webinar\, Nacha and PaymentWorks return with another concise rule overview\, tackling the most pressing questions: fraud detection standards\, third-party responsibilities\, and real-world implementation. \nWhether you’re just getting up to speed or planning for compliance\, this session will help you turn policy into action. \nAttendees will learn about:\n\nNacha’s role in governing ACH payments\nThe Rule requirements\, and what “risk-based” monitoring really means\nClear next steps\, with real-world examples and practical guidance\n\nCredits Available\nCPE Credit: 1*\n 
URL:https://www.paymentworks.com/event/nachas-2026-rule-changes-what-you-need-to-know-and-do-now/
CATEGORIES:Hosted by PaymentWorks
ATTACH;FMTTYPE=image/png:https://www.paymentworks.com/wp-content/uploads/2025/08/0f260d14-7e7c-4cb5-aed7-5bd601b5162c.png
END:VEVENT
BEGIN:VEVENT
DTSTART;TZID=America/New_York:20250924T140000
DTEND;TZID=America/New_York:20250924T150000
DTSTAMP:20260419T173627
CREATED:20250902T172718Z
LAST-MODIFIED:20250902T172730Z
UID:8373-1758722400-1758726000@www.paymentworks.com
SUMMARY:Automation\, Compliance & Fraud Defense: Barton Malow's Success Story
DESCRIPTION:Join us on September 24th at 2:00 EST\n \n  \n 
URL:https://www.paymentworks.com/event/automation-compliance-fraud-defense-barton-malows-success-story/
CATEGORIES:Hosted by PaymentWorks
ATTACH;FMTTYPE=image/png:https://www.paymentworks.com/wp-content/uploads/2025/09/PW-25-Fireside-Webinar_Barton_RingCentral.png
END:VEVENT
BEGIN:VEVENT
DTSTART;TZID=America/New_York:20251007T140000
DTEND;TZID=America/New_York:20251007T144500
DTSTAMP:20260419T173627
CREATED:20251001T142812Z
LAST-MODIFIED:20251001T142836Z
UID:8624-1759845600-1759848300@www.paymentworks.com
SUMMARY:Digital Supplier Onboarding: Demo Day
DESCRIPTION:Ready to take the pain out of vendor onboarding—and ensure compliance with Nacha’s new ACH rules? \n\nJoin us for a live\, 45-minute demo of the PaymentWorks platform and discover how we help organizations eliminate risk\, reduce manual effort\, and fully comply with the latest Nacha ACH rules. We’ll walk you through key features and show how PaymentWorks transforms a chaotic\, unsecured onboarding process into one that’s automated\, secure\, trackable\, and audit-ready. \n\nWhether you are in finance\, procurement\, or compliance\, you’ll see how PaymentWorks gives you control\, peace of mind—and a clear path to meeting Nacha requirements.
URL:https://www.paymentworks.com/event/digital-supplier-onboarding-demo-day/
CATEGORIES:Hosted by PaymentWorks
ATTACH;FMTTYPE=image/png:https://www.paymentworks.com/wp-content/uploads/2025/10/Ring-Central-1.png
END:VEVENT
BEGIN:VEVENT
DTSTART;VALUE=DATE:20251026
DTEND;VALUE=DATE:20251030
DTSTAMP:20260419T173627
CREATED:20250613T192802Z
LAST-MODIFIED:20251008T222249Z
UID:8072-1761436800-1761782399@www.paymentworks.com
SUMMARY:AFP 2025
DESCRIPTION:📣 See You at AFP 2025!\nPaymentWorks is heading to Boston for the AFP 2025 Annual Conference! Join us October 26–29 to connect with treasury and finance professionals worldwide—and learn how PaymentWorks is transforming vendor onboarding\, ACH fraud prevention\, and compliance in the digital age. \n📍 Visit Us at Booth #315🎤 Don’t Miss Our TWO Speaking Sessions – We’ll be taking the stage to share real-world strategies for securing vendor payments and ensuring compliance with evolving ACH requirements. \nGuardians of the Vault: Mastering Banking Instruction Verification to Combat Fraud in the Digital Age\n10/28/2025 2:00:00 – 3:00:00 PM ET\nSession Location: Room 156ABC\nSpeakers:\n\nAnastassiya Gainey\, Founder\, Instinct Within\, Ltd. \nDan Jurgens\, VP\, Sales\, PaymentWorks \n\nCulture Shift: Treasury’s Imperative Role in Vendor Onboarding to Mitigate Fraud\nSession Start: 10/28/2025 2:00:00- 3:00:00 PM ET\nSession Location: Room 252AB \nSpeakers:\n\nLinda Miller\, CEO and Founder\, Audient Group \nMonique Polas\, Assistant Treasurer\, Carnegie Mellon University \nChristopher Arehart\, SVP First Party Product Manager\, Chubb Ltd. \nHayley Hynes\, VP of Strategic Partnerships\, PaymentWorks \n\n  \nAFP 2025 brings together the brightest minds in finance—and we’re proud to be part of the conversation.
URL:https://www.paymentworks.com/event/afp-2025/
CATEGORIES:Attending
ATTACH;FMTTYPE=image/png:https://www.paymentworks.com/wp-content/uploads/2025/06/AN25-Logo_Red.png
END:VEVENT
BEGIN:VEVENT
DTSTART;VALUE=DATE:20251104
DTEND;VALUE=DATE:20251107
DTSTAMP:20260419T173627
CREATED:20250616T175121Z
LAST-MODIFIED:20250616T175121Z
UID:8090-1762214400-1762473599@www.paymentworks.com
SUMMARY:IOFM Fall Conference
DESCRIPTION:Join PaymentWorks at the IOFM Fall Conference 2025!\n📍 Booth #126🗓️ November 4–6\, 2025🏛️ Caesars Palace\, Las Vegas\, NV\n \nWe’re excited to announce that PaymentWorks will be exhibiting and speaking at this year’s IOFM Fall Conference! Join us at Booth #126 to discover how we transform vendor onboarding and compliance with our secure\, automated platform. Learn how organizations reduce fraud risk\, increase efficiency\, and gain visibility across vendor management processes. \nDon’t miss our speaking session where we’ll explore real-world strategies for driving AP and procurement innovation. \nConnect with our team\, see our solution in action\, and find out how we’re helping AP departments across the country simplify operations and stay audit-ready.
URL:https://www.paymentworks.com/event/iofm-fall-conference/
ATTACH;FMTTYPE=image/png:https://www.paymentworks.com/wp-content/uploads/2025/06/images-5.png
END:VEVENT
BEGIN:VEVENT
DTSTART;TZID=America/New_York:20251212T140000
DTEND;TZID=America/New_York:20251212T151500
DTSTAMP:20260419T173627
CREATED:20250702T155148Z
LAST-MODIFIED:20251023T161934Z
UID:8155-1765548000-1765552500@www.paymentworks.com
SUMMARY:3rd Annual - Vendor Management Appreciation Day
DESCRIPTION:Join us for our third annual special live event as we celebrate the professionals who keep organizations running smoothly—vendor management teams!\nVendor Management Appreciation Day (VMAD)\, founded by PaymentWorks\, is the first-ever initiative dedicated to recognizing the hard work\, diligence\, and critical importance of those who manage vendor onboarding\, compliance\, risk\, and operational efficiency. \nDon’t miss this opportunity to connect\, celebrate\, and elevate vendor management—register now to save your spot!
URL:https://www.paymentworks.com/event/3rd-annual-vendor-management-appreciation-day/
CATEGORIES:Hosted by PaymentWorks
ATTACH;FMTTYPE=image/png:https://www.paymentworks.com/wp-content/uploads/2025/07/PW-23-VMAD-StreamYard-Transitions-12.1.png
END:VEVENT
BEGIN:VEVENT
DTSTART;TZID=America/New_York:20260306T140000
DTEND;TZID=America/New_York:20260306T150000
DTSTAMP:20260419T173627
CREATED:20260211T155909Z
LAST-MODIFIED:20260211T155909Z
UID:9419-1772805600-1772809200@www.paymentworks.com
SUMMARY:Live Event: From Risk to Results: Breaking Down Silos to Enable Secure Digital Payments
DESCRIPTION:Long before changes to ACH rules were required to prevent vendor fraud\, Palm Beach County School District recognized that\, while there are many benefits to moving from check payments to ACH\, the district still needed to implement new controls to address credit-push fraud.  \nIn this case-study-driven session\, the Treasurer of the Palm Beach County School District shares how the treasury team partnered with procurement to address vendor data integrity and establish proactive payment controls. By investing early in a stronger vendor identity process that complemented the move to ACH\, the organization reduced its reliance on checks\, improved visibility across departments\, and enabled secure digital payments while maintaining strong and effective operational risk management. \nAttendees will hear how aligning incentives across teams enabled ACH adoption at scale\, reduced operational friction\, and allowed the organization to pay vendors electronically without the ongoing risk of vendor impersonation fraud. Attendees will also leave with a better understanding of robust internal processing controls supported by third-party partnerships \n\nWhy Palm Beach chose to strengthen ACH controls long before the new Nacha Rules\n\nHow vendor data integrity enabled the safe move off of check payments\n\nWhy proactive compliance delivered lasting business value\n\n 
URL:https://www.paymentworks.com/event/live-event-from-risk-to-results-breaking-down-silos-to-enable-secure-digital-payments/
CATEGORIES:Hosted by PaymentWorks
ATTACH;FMTTYPE=image/png:https://www.paymentworks.com/wp-content/uploads/2026/02/PW-hosted-36-Webinar-Wells.png
END:VEVENT
BEGIN:VEVENT
DTSTART;TZID=America/New_York:20260313T140000
DTEND;TZID=America/New_York:20260313T145000
DTSTAMP:20260419T173627
CREATED:20260218T165644Z
LAST-MODIFIED:20260218T165644Z
UID:9545-1773410400-1773413400@www.paymentworks.com
SUMMARY:PaymentWorks Demo Day
DESCRIPTION:In this interactive Demo Day session\, you’ll see how PaymentWorks helps finance\, AP\, treasury\, and procurement teams:\n\nAutomate vendor onboarding and updates with a secure\, self-service experience\nTransfer ACH fraud risk and protect against payment fraud.\nDigitize and streamline payments\nAccess the largest network of authenticated payees.\nGain greater visibility and control across the vendor lifecycle\n\n \nWith 1.5 million+ credentialed payees\, 40\,000 vendors onboarded per month\, and $315 million in intercepted fraudulent payments\, PaymentWorks is redefining how organizations manage vendor identity and B2B payment risk.
URL:https://www.paymentworks.com/event/paymentworks-demo-day-2/
CATEGORIES:Hosted by PaymentWorks
ATTACH;FMTTYPE=image/png:https://www.paymentworks.com/wp-content/uploads/2026/02/2026-Demo-Day-LinkedIn-03.13.2026.png
END:VEVENT
BEGIN:VEVENT
DTSTART;TZID=America/New_York:20260423T140000
DTEND;TZID=America/New_York:20260423T150000
DTSTAMP:20260419T173627
CREATED:20260331T152502Z
LAST-MODIFIED:20260331T152502Z
UID:9713-1776952800-1776956400@www.paymentworks.com
SUMMARY:Webinar: Compliance as a Catalyst: Lessons Learned from Nacha’s 2026 ACH Rule
DESCRIPTION:Compliance as a Catalyst: Lessons Learned from Nacha’s 2026 ACH Rule \nRegister\nThursday\, April 23\, 20262:00 – 3:00 PM EST1 CPE Credit Available\nWith Nacha’s 2026 ACH fraud prevention rule now in effect\, organizations are moving beyond implementation and taking a closer look at what compliance has revealed. For many\, this process has sparked a broader reassessment of payment controls\, vendor onboarding practices\, and financial risk ownership. \nJoin experts from Nacha Consulting\, Chubb\, and PaymentWorks for a moderated panel discussion on how ACH credit push practices have evolved in response to the new rule. This session will explore what teams uncovered during implementation—and how those insights are reshaping risk governance\, influencing insurance coverage decisions\, and accelerating broader payment modernization efforts\, including the shift away from checks. \nIn this session\, we’ll cover: \n\nWhat organizations uncovered when revisiting ACH credit push processes\nHow risk-based controls improved audit readiness and strengthened insurance conversations\nWhere compliance efforts led to unexpected operational efficiencies\nHow Nacha 2026 readiness is helping teams advance modern B2B payment strategies\n\nSpeakers: \n\nCourtney Marunda\, Assistant Vice President – Management Liability\, Chubb\nMark Dixon\, Nacha Consulting\nAngela Sarno\, PaymentWorks\n\nCredits Available: \n\n1 CPE Credit\n\nSave your seat!
URL:https://www.paymentworks.com/event/webinar-compliance-as-a-catalyst-lessons-learned-from-nachas-2026-ach-rule/
ATTACH;FMTTYPE=image/png:https://www.paymentworks.com/wp-content/uploads/2026/03/Compliance-as-a-Catalyst.png
END:VEVENT
END:VCALENDAR