BEGIN:VCALENDAR
VERSION:2.0
PRODID:-//PaymentWorks - ECPv6.15.11//NONSGML v1.0//EN
CALSCALE:GREGORIAN
METHOD:PUBLISH
X-WR-CALNAME:PaymentWorks
X-ORIGINAL-URL:https://www.paymentworks.com
X-WR-CALDESC:Events for PaymentWorks
REFRESH-INTERVAL;VALUE=DURATION:PT1H
X-Robots-Tag:noindex
X-PUBLISHED-TTL:PT1H
BEGIN:VTIMEZONE
TZID:America/Halifax
BEGIN:DAYLIGHT
TZOFFSETFROM:-0400
TZOFFSETTO:-0300
TZNAME:ADT
DTSTART:20220313T060000
END:DAYLIGHT
BEGIN:STANDARD
TZOFFSETFROM:-0300
TZOFFSETTO:-0400
TZNAME:AST
DTSTART:20221106T050000
END:STANDARD
BEGIN:DAYLIGHT
TZOFFSETFROM:-0400
TZOFFSETTO:-0300
TZNAME:ADT
DTSTART:20230312T060000
END:DAYLIGHT
BEGIN:STANDARD
TZOFFSETFROM:-0300
TZOFFSETTO:-0400
TZNAME:AST
DTSTART:20231105T050000
END:STANDARD
BEGIN:DAYLIGHT
TZOFFSETFROM:-0400
TZOFFSETTO:-0300
TZNAME:ADT
DTSTART:20240310T060000
END:DAYLIGHT
BEGIN:STANDARD
TZOFFSETFROM:-0300
TZOFFSETTO:-0400
TZNAME:AST
DTSTART:20241103T050000
END:STANDARD
END:VTIMEZONE
BEGIN:VEVENT
DTSTART;VALUE=DATE:20230507
DTEND;VALUE=DATE:20230511
DTSTAMP:20260419T232557
CREATED:20230406T202914Z
LAST-MODIFIED:20230406T203108Z
UID:2269-1683417600-1683763199@www.paymentworks.com
SUMMARY:The Payments Academy Conference
DESCRIPTION:The Payments Academy is a non-profit organization with the mission to provide learning and collaboration in the field of payments and payments risk management. \n  \nPaymentWorks is honored to be presenting at this year’s conference. Join us on May 9th from 2:45 – 3:45 PM to hear all about why Vendor Onboarding is Key to Driving Organizational Change. Joining us will be Brittney Goad\, Disbursement Manager at Stephen F. Austin State University\, and our very own Angela Sarno\, Vice President\, Marketing.
URL:https://www.paymentworks.com/event/the-payments-academy-conference/
LOCATION:The Westin Indianapolis\, 241 W. WASHINGTON ST\, INDIANAPOLIS\, IN\, United States
CATEGORIES:Attending,Hosted by PaymentWorks
ATTACH;FMTTYPE=image/jpeg:https://www.paymentworks.com/wp-content/uploads/2023/04/photo-005.jpg
END:VEVENT
BEGIN:VEVENT
DTSTART;VALUE=DATE:20230430
DTEND;VALUE=DATE:20230504
DTSTAMP:20260419T232557
CREATED:20230404T155936Z
LAST-MODIFIED:20230404T160156Z
UID:2242-1682812800-1683158399@www.paymentworks.com
SUMMARY:NAEP Annual Meeting
DESCRIPTION:The NAEP Annual Meeting is the largest in-person Higher Education Procurement event of the year. Each spring\, NAEP brings together over 500 procurement professionals from schools large and small\, public and private\, during its four-day meeting. PaymentWorks is honored to be participating in this year’s event for the 4th time! \nVisit us at Booth #102!
URL:https://www.paymentworks.com/event/naep-annual-meeting/
LOCATION:Gaylord Palms Resort\, Orlando\, Florida
CATEGORIES:Attending
ATTACH;FMTTYPE=image/jpeg:https://www.paymentworks.com/wp-content/uploads/2023/04/NAEP_AM23_TAGLINE-2.jpg
END:VEVENT
BEGIN:VEVENT
DTSTART;VALUE=DATE:20230430
DTEND;VALUE=DATE:20230504
DTSTAMP:20260419T232557
CREATED:20230331T203147Z
LAST-MODIFIED:20230403T192357Z
UID:2184-1682812800-1683158399@www.paymentworks.com
SUMMARY:WACUBO Annual Conference
DESCRIPTION:PaymentWorks is thrilled to attend this year’s WACUBO Annual Conference on April 30 – May 3\, 2023\, in Phoenix\, Arizona! What better way to connect with colleagues to share successes and challenges and learn from industry leaders than to attend this yearly conference? Stop by and visit us at booth 412!
URL:https://www.paymentworks.com/event/wacubo-annual-conference/
LOCATION:Phoenix\, AZ
CATEGORIES:Attending
ATTACH;FMTTYPE=image/jpeg:https://www.paymentworks.com/wp-content/uploads/2023/03/wacubo2020-logo.jpg
END:VEVENT
BEGIN:VEVENT
DTSTART;VALUE=DATE:20230423
DTEND;VALUE=DATE:20230426
DTSTAMP:20260419T232557
CREATED:20230315T170258Z
LAST-MODIFIED:20230331T202920Z
UID:2064-1682208000-1682467199@www.paymentworks.com
SUMMARY:SACUBO Annual Meeting
DESCRIPTION:PaymentWorks is thrilled to make our first-time appearance at this year’s SACUBO Annual Meeting in Tampa\, Florida. SACUBO is one of four regional associations that constitute the National Association of College and University Business Officers (NACUBO). Stop by and visit PaymentWorks at Booth #204!
URL:https://www.paymentworks.com/event/sacubo-annual-meeting/
LOCATION:Tampa Marriott Water Street\, 505 Water Street\, Tampa\, FL\, 33602\, United States
CATEGORIES:Attending
ATTACH;FMTTYPE=image/jpeg:https://www.paymentworks.com/wp-content/uploads/2023/03/tb-SACUBO.jpg
END:VEVENT
BEGIN:VEVENT
DTSTART;TZID=America/Halifax:20230412T093000
DTEND;TZID=America/Halifax:20230412T173000
DTSTAMP:20260419T232557
CREATED:20230315T165355Z
LAST-MODIFIED:20230321T185458Z
UID:2059-1681291800-1681320600@www.paymentworks.com
SUMMARY:The Strategic Importance of Your Vendor Master File
DESCRIPTION:Please join us on Wednesday\, April 12th in Reston\, VA for this must-attend event. Lunch and beverages\, and up to 6.3 CPE credits\, are available to attendees. Limited spots are available. Register Now!
URL:https://www.paymentworks.com/event/the-strategic-importance-of-your-vendor-master-file/
LOCATION:Carahsoft Technology Corp\, 11493 Sunset Hills Road\, Reston\, VA\, 20190\, United States
CATEGORIES:Attending,Hosted by PaymentWorks
ATTACH;FMTTYPE=image/jpeg:https://www.paymentworks.com/wp-content/uploads/2023/03/PW-23-EVENT-GRAPHICS.jpg
END:VEVENT
BEGIN:VEVENT
DTSTART;VALUE=DATE:20230329
DTEND;VALUE=DATE:20230401
DTSTAMP:20260419T232557
CREATED:20230315T170349Z
LAST-MODIFIED:20230321T190126Z
UID:2052-1680048000-1680307199@www.paymentworks.com
SUMMARY:NYGFOA Annual Conference
DESCRIPTION:Find us at Booth # 45!
URL:https://www.paymentworks.com/event/nygfoa-annual-conference/
LOCATION:Albany Marriott Hotel\, 189 Wolf Rd\, Albany\, NY\, 12205\, United States
CATEGORIES:Attending
ATTACH;FMTTYPE=image/jpeg:https://www.paymentworks.com/wp-content/uploads/2023/03/nygfoa-conf.jpg
END:VEVENT
END:VCALENDAR