BEGIN:VCALENDAR
VERSION:2.0
PRODID:-//PaymentWorks - ECPv6.15.11//NONSGML v1.0//EN
CALSCALE:GREGORIAN
METHOD:PUBLISH
X-WR-CALNAME:PaymentWorks
X-ORIGINAL-URL:https://www.paymentworks.com
X-WR-CALDESC:Events for PaymentWorks
REFRESH-INTERVAL;VALUE=DURATION:PT1H
X-Robots-Tag:noindex
X-PUBLISHED-TTL:PT1H
BEGIN:VTIMEZONE
TZID:America/New_York
BEGIN:DAYLIGHT
TZOFFSETFROM:-0500
TZOFFSETTO:-0400
TZNAME:EDT
DTSTART:20240310T070000
END:DAYLIGHT
BEGIN:STANDARD
TZOFFSETFROM:-0400
TZOFFSETTO:-0500
TZNAME:EST
DTSTART:20241103T060000
END:STANDARD
BEGIN:DAYLIGHT
TZOFFSETFROM:-0500
TZOFFSETTO:-0400
TZNAME:EDT
DTSTART:20250309T070000
END:DAYLIGHT
BEGIN:STANDARD
TZOFFSETFROM:-0400
TZOFFSETTO:-0500
TZNAME:EST
DTSTART:20251102T060000
END:STANDARD
BEGIN:DAYLIGHT
TZOFFSETFROM:-0500
TZOFFSETTO:-0400
TZNAME:EDT
DTSTART:20260308T070000
END:DAYLIGHT
BEGIN:STANDARD
TZOFFSETFROM:-0400
TZOFFSETTO:-0500
TZNAME:EST
DTSTART:20261101T060000
END:STANDARD
END:VTIMEZONE
BEGIN:VEVENT
DTSTART;TZID=America/New_York:20250522T150000
DTEND;TZID=America/New_York:20250522T154500
DTSTAMP:20260419T132300
CREATED:20250424T143918Z
LAST-MODIFIED:20250424T144747Z
UID:7272-1747926000-1747928700@www.paymentworks.com
SUMMARY:Fraud Prevention & Payment Optimization: A Fireside Chat with Nuvance Health
DESCRIPTION:Join us for an engaging fireside chat as we dive into how Nuvance Health transformed its vendor management process to prevent fraud and optimize payment strategies proactively.\nScott Skrzypczak\, AVP of Operations and Procure-to-Pay at Nuvance Health\, will share real-world insights from their journey: \n\nHow PaymentWorks enabled real-time vendor verification and ACH indemnification\, helping Nuvance meet critical compliance standards.\nThe transition from manual\, risk-prone vendor vetting to an automated\, secure system.\nBuilding a Vendor Integrity Team that safeguards against fraud and drives payment optimization\, including major growth in commercial card and accelerated ACH programs.\nHow Nuvance caught three legitimate fraud attempts and saved $80\,000 in the first year of implementation.\nThe growing importance of cybersecurity and vendor integrity in the healthcare sector\, and lessons applicable across industries.\n\nModerated by Brian Anderson from PaymentWorks\, this session will also explore strategies for turning traditionally cost-heavy departments into ROI-positive functions\, all while strengthening organizational security. \nIf you want to modernize your vendor onboarding process\, enhance fraud prevention\, and maximize financial efficiency\, don’t miss this conversation!\n \n  \n 
URL:https://www.paymentworks.com/event/fraud-prevention-payment-optimization-a-fireside-chat-with-nuvance-health/
CATEGORIES:Attending,Hosted by PaymentWorks
ATTACH;FMTTYPE=image/png:https://www.paymentworks.com/wp-content/uploads/2025/04/f764d09a-eb70-44c7-ba92-4a3809175ceb.png
END:VEVENT
END:VCALENDAR