BEGIN:VCALENDAR
VERSION:2.0
PRODID:-//PaymentWorks - ECPv6.15.11//NONSGML v1.0//EN
CALSCALE:GREGORIAN
METHOD:PUBLISH
X-ORIGINAL-URL:https://www.paymentworks.com
X-WR-CALDESC:Events for PaymentWorks
REFRESH-INTERVAL;VALUE=DURATION:PT1H
X-Robots-Tag:noindex
X-PUBLISHED-TTL:PT1H
BEGIN:VTIMEZONE
TZID:America/New_York
BEGIN:DAYLIGHT
TZOFFSETFROM:-0500
TZOFFSETTO:-0400
TZNAME:EDT
DTSTART:20230312T070000
END:DAYLIGHT
BEGIN:STANDARD
TZOFFSETFROM:-0400
TZOFFSETTO:-0500
TZNAME:EST
DTSTART:20231105T060000
END:STANDARD
BEGIN:DAYLIGHT
TZOFFSETFROM:-0500
TZOFFSETTO:-0400
TZNAME:EDT
DTSTART:20240310T070000
END:DAYLIGHT
BEGIN:STANDARD
TZOFFSETFROM:-0400
TZOFFSETTO:-0500
TZNAME:EST
DTSTART:20241103T060000
END:STANDARD
BEGIN:DAYLIGHT
TZOFFSETFROM:-0500
TZOFFSETTO:-0400
TZNAME:EDT
DTSTART:20250309T070000
END:DAYLIGHT
BEGIN:STANDARD
TZOFFSETFROM:-0400
TZOFFSETTO:-0500
TZNAME:EST
DTSTART:20251102T060000
END:STANDARD
END:VTIMEZONE
BEGIN:VEVENT
DTSTART;TZID=America/New_York:20240430T140000
DTEND;TZID=America/New_York:20240430T150000
DTSTAMP:20260419T103557
CREATED:20240401T185421Z
LAST-MODIFIED:20240401T185421Z
UID:5375-1714485600-1714489200@www.paymentworks.com
SUMMARY:J.P. Morgan\, PaymentWorks & Texas Health Resources - Vendor Onboarding is the Key to Driving Organizational Value
DESCRIPTION:Join PaymentWorks & J.P. Morgan on April 30th at 2:00 pm EST for a live virtual event with J.P. Morgan featuring Texas Health Resources! \nAgenda: \n\nThe PaymentWorks and J.P. Morgan partnership\nOverview of PaymentWorks\nClient Case Study – Texas Health Resources\n\n 
URL:https://www.paymentworks.com/event/j-p-morgan-paymentworks-texas-health-resources-vendor-onboarding-is-the-key-to-driving-organizational-value/
CATEGORIES:Hosted by PaymentWorks
ATTACH;FMTTYPE=image/png:https://www.paymentworks.com/wp-content/uploads/2024/04/3e4d8c8f-afb3-4908-98f6-d5b29d24d86b.png
END:VEVENT
END:VCALENDAR