BEGIN:VCALENDAR
VERSION:2.0
PRODID:-//PaymentWorks - ECPv6.15.11//NONSGML v1.0//EN
CALSCALE:GREGORIAN
METHOD:PUBLISH
X-ORIGINAL-URL:https://www.paymentworks.com
X-WR-CALDESC:Events for PaymentWorks
REFRESH-INTERVAL;VALUE=DURATION:PT1H
X-Robots-Tag:noindex
X-PUBLISHED-TTL:PT1H
BEGIN:VTIMEZONE
TZID:America/New_York
BEGIN:DAYLIGHT
TZOFFSETFROM:-0500
TZOFFSETTO:-0400
TZNAME:EDT
DTSTART:20230312T070000
END:DAYLIGHT
BEGIN:STANDARD
TZOFFSETFROM:-0400
TZOFFSETTO:-0500
TZNAME:EST
DTSTART:20231105T060000
END:STANDARD
BEGIN:DAYLIGHT
TZOFFSETFROM:-0500
TZOFFSETTO:-0400
TZNAME:EDT
DTSTART:20240310T070000
END:DAYLIGHT
BEGIN:STANDARD
TZOFFSETFROM:-0400
TZOFFSETTO:-0500
TZNAME:EST
DTSTART:20241103T060000
END:STANDARD
BEGIN:DAYLIGHT
TZOFFSETFROM:-0500
TZOFFSETTO:-0400
TZNAME:EDT
DTSTART:20250309T070000
END:DAYLIGHT
BEGIN:STANDARD
TZOFFSETFROM:-0400
TZOFFSETTO:-0500
TZNAME:EST
DTSTART:20251102T060000
END:STANDARD
END:VTIMEZONE
BEGIN:VEVENT
DTSTART;TZID=America/New_York:20240229T140000
DTEND;TZID=America/New_York:20240229T150000
DTSTAMP:20260419T132322
CREATED:20240205T221944Z
LAST-MODIFIED:20240220T212353Z
UID:5135-1709215200-1709218800@www.paymentworks.com
SUMMARY:PaymentWorks & J.P. Morgan: Vendor Onboarding is the Key to Driving Organizational Value
DESCRIPTION:Join us for an hour-long session with our partner\, J.P. Morgan. \n  \n \nWebinar Agenda:\n\n\n\nJ.P. Morgan Introduction\nJ.P. Morgan and PaymentWorks Partnership\nPaymentWorks Overview\nPartnership Case Studies & Next Steps\n\n\n\n\n \n\nSpeakers\n\nHayley Hynes\nVP\, Strategic Partnerships\, PaymentWorks \nPaymentWorks VP of Partnerships\, where she is responsible for building out PaymentWorks technical and go-to-market strategies with banks\, insurance companies\, global system integrators\, and ISVs. As a cloud security subject matter expert for SaaS\, PaaS\, and IaaS \, Hayley brings to PaymentWorks key expertise and experience with how cyber security crosses over into the fraud landscape. She has held strategic partnership roles in several successful startups including Cloudlock\, Backupify\, and ThreatStack as well as large organizations such as Cisco. She’s worked side-by-side partnering and developing joint business initiatives and technologies with cyber security experts at Google\, Amazon\, Microsoft\, and other Fortune 50 companies. \n Jill Moore\nExecutive Director\, JPMorgan Chase \nJill Moore has been with JPMorgan since 2005. She has worked in Commercial Card in training and consulting\, and in sales as a product specialist. Jill has worked closely with her treasury and banking colleagues while at JPMorgan along with other internal and external partners in the always evolving payables space. She has supported numerous clients in both Middle Market and Corporate Client Banking\, and has taken advantage of the mobility JPM offers covering different locations throughout the US including New York\, Illinois\, California and Ohio. Jill is a graduate of the University of Illinois at Urbana-Champaign. She is married with a son and a daughter\, and resides in Cincinnati\, Ohio. \n 
URL:https://www.paymentworks.com/event/paymentworks-j-p-morgan-vendor-onboarding-is-the-key-to-driving-organizational-value/
CATEGORIES:Hosted by PaymentWorks
ATTACH;FMTTYPE=image/png:https://www.paymentworks.com/wp-content/uploads/2024/02/Session-102-3.png
END:VEVENT
END:VCALENDAR