BEGIN:VCALENDAR
VERSION:2.0
PRODID:-//PaymentWorks - ECPv6.15.11//NONSGML v1.0//EN
CALSCALE:GREGORIAN
METHOD:PUBLISH
X-ORIGINAL-URL:https://www.paymentworks.com
X-WR-CALDESC:Events for PaymentWorks
REFRESH-INTERVAL;VALUE=DURATION:PT1H
X-Robots-Tag:noindex
X-PUBLISHED-TTL:PT1H
BEGIN:VTIMEZONE
TZID:America/Halifax
BEGIN:DAYLIGHT
TZOFFSETFROM:-0400
TZOFFSETTO:-0300
TZNAME:ADT
DTSTART:20220313T060000
END:DAYLIGHT
BEGIN:STANDARD
TZOFFSETFROM:-0300
TZOFFSETTO:-0400
TZNAME:AST
DTSTART:20221106T050000
END:STANDARD
BEGIN:DAYLIGHT
TZOFFSETFROM:-0400
TZOFFSETTO:-0300
TZNAME:ADT
DTSTART:20230312T060000
END:DAYLIGHT
BEGIN:STANDARD
TZOFFSETFROM:-0300
TZOFFSETTO:-0400
TZNAME:AST
DTSTART:20231105T050000
END:STANDARD
BEGIN:DAYLIGHT
TZOFFSETFROM:-0400
TZOFFSETTO:-0300
TZNAME:ADT
DTSTART:20240310T060000
END:DAYLIGHT
BEGIN:STANDARD
TZOFFSETFROM:-0300
TZOFFSETTO:-0400
TZNAME:AST
DTSTART:20241103T050000
END:STANDARD
END:VTIMEZONE
BEGIN:VEVENT
DTSTART;VALUE=DATE:20230819
DTEND;VALUE=DATE:20230824
DTSTAMP:20260419T231955
CREATED:20230601T162056Z
LAST-MODIFIED:20230601T163626Z
UID:3166-1692403200-1692835199@www.paymentworks.com
SUMMARY:NIGP Forum 2023
DESCRIPTION:Join us at the NIGP Forum 2023 in Louisville\, KY\, August 19 – 23. \n 
URL:https://www.paymentworks.com/event/nigp-forum-2023/
LOCATION:Kentucky International Convention Center\, 221 S 4th St.\, Louisville\, KY\, 40202\, United States
CATEGORIES:Attending
ATTACH;FMTTYPE=image/jpeg:https://www.paymentworks.com/wp-content/uploads/2023/06/ngip-featured.jpg
END:VEVENT
END:VCALENDAR