BEGIN:VCALENDAR
VERSION:2.0
PRODID:-//PaymentWorks - ECPv6.15.11//NONSGML v1.0//EN
CALSCALE:GREGORIAN
METHOD:PUBLISH
X-ORIGINAL-URL:https://www.paymentworks.com
X-WR-CALDESC:Events for PaymentWorks
REFRESH-INTERVAL;VALUE=DURATION:PT1H
X-Robots-Tag:noindex
X-PUBLISHED-TTL:PT1H
BEGIN:VTIMEZONE
TZID:America/Halifax
BEGIN:DAYLIGHT
TZOFFSETFROM:-0400
TZOFFSETTO:-0300
TZNAME:ADT
DTSTART:20220313T060000
END:DAYLIGHT
BEGIN:STANDARD
TZOFFSETFROM:-0300
TZOFFSETTO:-0400
TZNAME:AST
DTSTART:20221106T050000
END:STANDARD
BEGIN:DAYLIGHT
TZOFFSETFROM:-0400
TZOFFSETTO:-0300
TZNAME:ADT
DTSTART:20230312T060000
END:DAYLIGHT
BEGIN:STANDARD
TZOFFSETFROM:-0300
TZOFFSETTO:-0400
TZNAME:AST
DTSTART:20231105T050000
END:STANDARD
BEGIN:DAYLIGHT
TZOFFSETFROM:-0400
TZOFFSETTO:-0300
TZNAME:ADT
DTSTART:20240310T060000
END:DAYLIGHT
BEGIN:STANDARD
TZOFFSETFROM:-0300
TZOFFSETTO:-0400
TZNAME:AST
DTSTART:20241103T050000
END:STANDARD
END:VTIMEZONE
BEGIN:VEVENT
DTSTART;TZID=America/Halifax:20230720T130000
DTEND;TZID=America/Halifax:20230720T140000
DTSTAMP:20260419T231958
CREATED:20230620T135347Z
LAST-MODIFIED:20230626T162826Z
UID:3406-1689858000-1689861600@www.paymentworks.com
SUMMARY:City of Vista\, CA  Fireside Chat : The Key to Successful Change Management
DESCRIPTION:Join us for a Fireside Chat with the Finance Manager and Deputy Treasurer from the City of Vista to hear about their successful implementation of PaymentWorks. \n  \nHighlights Include: \n\nMarrying your payment strategy to vendor onboarding while keeping compliant and eliminating payments fraud risk\nRealizing the value of your investment in automation in record time\nA real story about catching a $63\,000 fraud attempt within days of going live\n\n  \n \n  \nRegister HERE!
URL:https://www.paymentworks.com/event/city-of-vista-ca-fireside-chat-the-key-to-successful-change-management/
CATEGORIES:Hosted by PaymentWorks
ATTACH;FMTTYPE=image/jpeg:https://www.paymentworks.com/wp-content/uploads/2023/06/PW-23-Vista-Fireside-Chat-email-final.jpg
END:VEVENT
END:VCALENDAR