BEGIN:VCALENDAR
VERSION:2.0
PRODID:-//PaymentWorks - ECPv6.15.11//NONSGML v1.0//EN
CALSCALE:GREGORIAN
METHOD:PUBLISH
X-ORIGINAL-URL:https://www.paymentworks.com
X-WR-CALDESC:Events for PaymentWorks
REFRESH-INTERVAL;VALUE=DURATION:PT1H
X-Robots-Tag:noindex
X-PUBLISHED-TTL:PT1H
BEGIN:VTIMEZONE
TZID:America/Halifax
BEGIN:DAYLIGHT
TZOFFSETFROM:-0400
TZOFFSETTO:-0300
TZNAME:ADT
DTSTART:20220313T060000
END:DAYLIGHT
BEGIN:STANDARD
TZOFFSETFROM:-0300
TZOFFSETTO:-0400
TZNAME:AST
DTSTART:20221106T050000
END:STANDARD
BEGIN:DAYLIGHT
TZOFFSETFROM:-0400
TZOFFSETTO:-0300
TZNAME:ADT
DTSTART:20230312T060000
END:DAYLIGHT
BEGIN:STANDARD
TZOFFSETFROM:-0300
TZOFFSETTO:-0400
TZNAME:AST
DTSTART:20231105T050000
END:STANDARD
BEGIN:DAYLIGHT
TZOFFSETFROM:-0400
TZOFFSETTO:-0300
TZNAME:ADT
DTSTART:20240310T060000
END:DAYLIGHT
BEGIN:STANDARD
TZOFFSETFROM:-0300
TZOFFSETTO:-0400
TZNAME:AST
DTSTART:20241103T050000
END:STANDARD
END:VTIMEZONE
BEGIN:VEVENT
DTSTART;VALUE=DATE:20230715
DTEND;VALUE=DATE:20230719
DTSTAMP:20260419T231940
CREATED:20230601T154622Z
LAST-MODIFIED:20230601T154622Z
UID:3154-1689379200-1689724799@www.paymentworks.com
SUMMARY:NACUBO 2023 Annual Meeting
DESCRIPTION:The  National Association of College and University Business Officers (NACUBA) 2023 Annual Meeting will be hosted in Orlando July 15th through the 18th. NACUBO’s annual meeting will gather almost 2\,000 campus and sector leaders who are dedicated to the success of their institutions and students.
URL:https://www.paymentworks.com/event/nacubo-2023-annual-meeting/
LOCATION:Orlando World Center Marriott\, 8701 World Center Dr\, Orlando\, FL\, 32821\, United States
CATEGORIES:Attending
ATTACH;FMTTYPE=image/jpeg:https://www.paymentworks.com/wp-content/uploads/2023/06/2023-NACUBO-featured-image.jpg
END:VEVENT
END:VCALENDAR