BEGIN:VCALENDAR
VERSION:2.0
PRODID:-//PaymentWorks - ECPv6.15.11//NONSGML v1.0//EN
CALSCALE:GREGORIAN
METHOD:PUBLISH
X-WR-CALNAME:PaymentWorks
X-ORIGINAL-URL:https://www.paymentworks.com
X-WR-CALDESC:Events for PaymentWorks
REFRESH-INTERVAL;VALUE=DURATION:PT1H
X-Robots-Tag:noindex
X-PUBLISHED-TTL:PT1H
BEGIN:VTIMEZONE
TZID:America/Halifax
BEGIN:DAYLIGHT
TZOFFSETFROM:-0400
TZOFFSETTO:-0300
TZNAME:ADT
DTSTART:20220313T060000
END:DAYLIGHT
BEGIN:STANDARD
TZOFFSETFROM:-0300
TZOFFSETTO:-0400
TZNAME:AST
DTSTART:20221106T050000
END:STANDARD
BEGIN:DAYLIGHT
TZOFFSETFROM:-0400
TZOFFSETTO:-0300
TZNAME:ADT
DTSTART:20230312T060000
END:DAYLIGHT
BEGIN:STANDARD
TZOFFSETFROM:-0300
TZOFFSETTO:-0400
TZNAME:AST
DTSTART:20231105T050000
END:STANDARD
BEGIN:DAYLIGHT
TZOFFSETFROM:-0400
TZOFFSETTO:-0300
TZNAME:ADT
DTSTART:20240310T060000
END:DAYLIGHT
BEGIN:STANDARD
TZOFFSETFROM:-0300
TZOFFSETTO:-0400
TZNAME:AST
DTSTART:20241103T050000
END:STANDARD
END:VTIMEZONE
BEGIN:VEVENT
DTSTART;VALUE=DATE:20230624
DTEND;VALUE=DATE:20230629
DTSTAMP:20260420T003505
CREATED:20230531T192638Z
LAST-MODIFIED:20230601T164112Z
UID:3087-1687564800-1687996799@www.paymentworks.com
SUMMARY:2023 FGFOA Annual Conference
DESCRIPTION:PaymentWorks is thrilled to be attending this year’s FGFOA Annual Conference in Orlando\, Florida  The Florida Government Finance Officers Association (FGFOA) was founded in 1937 and serves more than 2\,800 professionals from state\, county\, and city governments\, school districts\, colleges\, and universities\, special districts\, and private firms. \n  \nCome visit us at Booth 301! \n 
URL:https://www.paymentworks.com/event/2023-fgfoa-annual-conference/
LOCATION:Rosen Shingle Creek Hotel\, 9939 Universal Blvd\, Orlando\, United States
CATEGORIES:Attending
ATTACH;FMTTYPE=image/jpeg:https://www.paymentworks.com/wp-content/uploads/2023/05/2023-fgfoa-annual-conference-announcement-1.jpg
END:VEVENT
BEGIN:VEVENT
DTSTART;VALUE=DATE:20230625
DTEND;VALUE=DATE:20230629
DTSTAMP:20260420T003505
CREATED:20230531T195502Z
LAST-MODIFIED:20230601T164359Z
UID:3106-1687651200-1687996799@www.paymentworks.com
SUMMARY:HFMA Annual Conference
DESCRIPTION:The HFMA Annual Conference is the premier event in healthcare finance\, drawing more than 3\,000 participants from across the nation and offering 4 strategy-focused general sessions\, more than 70 educational sessions\, and 7 content tracks over 4 days. \n\n\n\n\n\n\n\n\n\nJoin us in Nashville and find us in booth 1250
URL:https://www.paymentworks.com/event/hfma-annual-conference/
LOCATION:Gaylord Opryland\, 2800 Opryland Dr\,\, Nashville\, TN\, 37214\, United States
CATEGORIES:Attending
ATTACH;FMTTYPE=image/jpeg:https://www.paymentworks.com/wp-content/uploads/2023/05/hfma-conference-1.jpg
END:VEVENT
END:VCALENDAR