BEGIN:VCALENDAR
VERSION:2.0
PRODID:-//PaymentWorks - ECPv6.15.11//NONSGML v1.0//EN
CALSCALE:GREGORIAN
METHOD:PUBLISH
X-WR-CALNAME:PaymentWorks
X-ORIGINAL-URL:https://www.paymentworks.com
X-WR-CALDESC:Events for PaymentWorks
REFRESH-INTERVAL;VALUE=DURATION:PT1H
X-Robots-Tag:noindex
X-PUBLISHED-TTL:PT1H
BEGIN:VTIMEZONE
TZID:America/Halifax
BEGIN:DAYLIGHT
TZOFFSETFROM:-0400
TZOFFSETTO:-0300
TZNAME:ADT
DTSTART:20220313T060000
END:DAYLIGHT
BEGIN:STANDARD
TZOFFSETFROM:-0300
TZOFFSETTO:-0400
TZNAME:AST
DTSTART:20221106T050000
END:STANDARD
BEGIN:DAYLIGHT
TZOFFSETFROM:-0400
TZOFFSETTO:-0300
TZNAME:ADT
DTSTART:20230312T060000
END:DAYLIGHT
BEGIN:STANDARD
TZOFFSETFROM:-0300
TZOFFSETTO:-0400
TZNAME:AST
DTSTART:20231105T050000
END:STANDARD
BEGIN:DAYLIGHT
TZOFFSETFROM:-0400
TZOFFSETTO:-0300
TZNAME:ADT
DTSTART:20240310T060000
END:DAYLIGHT
BEGIN:STANDARD
TZOFFSETFROM:-0300
TZOFFSETTO:-0400
TZNAME:AST
DTSTART:20241103T050000
END:STANDARD
END:VTIMEZONE
BEGIN:VEVENT
DTSTART;TZID=America/Halifax:20230525T110000
DTEND;TZID=America/Halifax:20230525T114500
DTSTAMP:20260420T014457
CREATED:20230508T180414Z
LAST-MODIFIED:20230510T164504Z
UID:2633-1685012400-1685015100@www.paymentworks.com
SUMMARY:PaymentWorks and JP Morgan- Success Story and 2023 Insights
DESCRIPTION:PaymentWorks Quarterly Partner Webinar Agenda:\n\n\n“How PaymentWorks helped me win Robert Half”- Michael Ferarra\, Executive Director\, Treasury Services\, JP Morgan\nThe Broken “Status Quo” of Vendor Management and how PaymentWorks Solves it – Megan Diakoumis\, Partner Marketing\, PaymentWorks\nPaymentWorks Data Goldmine: Actionable Data Points\, Network Insights to Grow Virtual Card – Grace Maybie\, Product and Data Analytics\, PaymentWorks\n\n\nLearning Objectives:\n\nHelp win new business and defend existing business\nGrow your industry knowledge\nGain a deeper understanding of customer pain points\nBe a trusted advisor for improving your customer’s payables strategy\n\nCome meet PaymentWorks and hear what all the buzz is about! \nRegister Today!\n\n 
URL:https://www.paymentworks.com/event/paymentworks-and-jp-morgan-success-story-and-2023-insights/
CATEGORIES:Hosted by PaymentWorks
ATTACH;FMTTYPE=image/jpeg:https://www.paymentworks.com/wp-content/uploads/2023/05/PW-JPM-event.jpg
END:VEVENT
END:VCALENDAR